BEGIN:VCALENDAR
VERSION:2.0
PRODID:-//eventon.com NONSGML v1.0//EN
CALSCALE:GREGORIAN
METHOD:PUBLISH
BEGIN:VEVENT
UID:69eb474db7e07
DTSTAMP:20260424T103453Z
DTSTART:20240918T100000Z
DTEND:20241016T120000Z
LOCATION:PMR Europe Rue Dodonée 113
SUMMARY:Exercices Pratiques de Médiation
DESCRIPTION:Cycle Midi Quatre midis : les 18 et 25 septembre et les 9 et 16
  octobre  2024 De 12.00 à 14.00 Accueil à partir de 11.30 ATTESTATION Un
 e attestation sera délivrée aux participants –  (4x 2h o) PRIX 320 eur
 os + TVA (387\, 20 euros TVAC) par cycle\,  Comprenant la formation\, [..]\
 nhttps://www.pmr-europe.com/en/events/exercices-pratiques-de-mediation/
URL:https://www.pmr-europe.com/en/events/exercices-pratiques-de-mediation/
END:VEVENT
END:VCALENDAR